Workbook
Name CNTR_HasEntriesA: [1]A_InstData!$K$123
Name CONST_CNTR_SUM_CO2: [1]Parameters_Constants!$B$3
Name CONST_CNTR_SUM_N2O: [1]Parameters_Constants!$B$5
Name CONST_CNTR_SUM_PFC: [1]Parameters_Constants!$B$4
Name CONST_tCO2eq: [1]Parameters_Constants!$B$32

Sheet Cover
B2: Purpose of use: Please only use this template when working together with Rolls Royce Power Systems AG to report CBAM data. Any other use is prohibited.
B3: Rolls-Royce data request for CBAM reporting
B5: Purpose of this worksheet
B6: This worksheet is requesting data for the Carbon Border Adjustment Mechanism that has been introduced by the European Union. Rolls-Royce Power Systems AG is required to report on the specific embedded emissions (SEE) of their imported goods (such as aluminium and iron and stell) covered by the scope of the newly introduced regulation. These emissions include direct emissions, that are emitted during production at an installation level also including emissions from the production of electricity/heating, and indirect emissions from electricity consumed during the production processes of the imported goods (see graph below). Rolls-Royce Power Systems AG asks their suppliers to provide them with the relevant information for the submission, including the direct and indirect SEE (t CO2/tCBAMproduct) in line with the reporting requirements.
B7: This worksheet was prepared by Guidehouse, supporting Rolls-Royce Power Systems AG and their subsidiaries.
B9: User instructions
B10: Please insert the part no. and proudcts' CN codes that you are supplying to Rolls-Royce Power Systems AG below. Please fill in the data request a) General data request, including 1) your contact information, 2) information on installation operators and 3) more detailed information on production installations. Additionally, please fill in b) Advanced data request, including 1) general information, 2) installation-specifc information and 3) product-specifc information, when you have installation specifc data available. During the transistional period, filing b) Advanced data request is optional. From 2026 onwards, providing the information requested in b) Advanced data request will be be mandatory. Please reference the Guidehouse excel formatting (formatting legend - see below) for indication on where data input is required. The change-log below is used to document any changes to this document. Further information can be found on the information sheets provided by Rolls-Royce Power Systems AG and under the following link: https://taxation-customs.ec.europa.eu/carbon-border-adjustment-mechanism_en#legislative-documents In case of additional questions, please reach out to the contacts provided below.
B12: Questions? Please contact …
D14: Organization | E14: Name | F14: Email
B15: … for general questions. | D15: RRPS | E15: CBAM Team at Strategic Purchasing at RRPS | F15: purchasing@ps.rolls-royce.com
B19: Data request - Please insert Data here
D21: Drop down list. Please insert all CN Codes for CBAM products supplied by you.
B22: Please insert the part number of each CBAM relevant good delivered to RRPS to be found on your invoice.
B23: Part No. RRPS | C23: Part No. Supplier | D23: Applicable CN-code(s) | E23: Desciption
E24: =_xlfn.IFNA(INDEX(Admin!$S$4:$S$712,MATCH(D24,Admin!$T$4:$T$712)), "")
E25: =_xlfn.IFNA(INDEX(Admin!$S$4:$S$712,MATCH(D25,Admin!$T$4:$T$712)), "")
E26: =_xlfn.IFNA(INDEX(Admin!$S$4:$S$712,MATCH(D26,Admin!$T$4:$T$712)), "")
E27: =_xlfn.IFNA(INDEX(Admin!$S$4:$S$712,MATCH(D27,Admin!$T$4:$T$712)), "")
E28: =_xlfn.IFNA(INDEX(Admin!$S$4:$S$712,MATCH(D28,Admin!$T$4:$T$712)), "")
E29: =_xlfn.IFNA(INDEX(Admin!$S$4:$S$712,MATCH(D29,Admin!$T$4:$T$712)), "")
E30: =_xlfn.IFNA(INDEX(Admin!$S$4:$S$712,MATCH(D30,Admin!$T$4:$T$712)), "")
E31: =_xlfn.IFNA(INDEX(Admin!$S$4:$S$712,MATCH(D31,Admin!$T$4:$T$712)), "")
E32: =_xlfn.IFNA(INDEX(Admin!$S$4:$S$712,MATCH(D32,Admin!$T$4:$T$712)), "")
E33: =_xlfn.IFNA(INDEX(Admin!$S$4:$S$712,MATCH(D33,Admin!$T$4:$T$712)), "")
B34: Formatting legend
B36: GH_Input1 | D36: Cells which have values, not formulae, and which the user can / should change
B38: GH_InputList | D38: For in-cell drop-downs (using data validation)
B40: GH_Comment | D40: Comments, description of formulae or content
B41: GH_Source | D41: Description of the source of your data, text etc.
B43: GH_Calc1 | D43: Apply if you are using formulae in your cells
B44: GH_Calc2 | D44: If you are using different formulae in neighboring cells
B45: GH_Calc3 | D45: please apply for each formula a different calculation style
B46: GH_Calc4 | D46: to show the user that formulae do not fill down / right
B47: GH_Calc5
B49: GH_RangeName | D49: Used to hold the name of a close-by named range
D50: (ideally to the top/left of the named range)
B52: Explanatory Text | D52: Used to provide information and explanations for workbook handling.
E53: =_xlfn.IFNA(INDEX(Admin!$S$4:$S$712,MATCH(D53,Admin!$T$4:$T$712)), "")
E54: =_xlfn.IFNA(INDEX(Admin!$S$4:$S$712,MATCH(D54,Admin!$T$4:$T$712)), "")
B55: Change-Log
...

Sheet a) General data request
B3: a) General data request
B5: 1) General information - Supplier
B6: Please insert the reporting year and reporting quarter for which you provide the data in this data collection workbook. Please provide your contact details as a supplier of RRPS below.
E8: Reporting period - Site acvitiy data
E9: Reporting year start: | G9: By default the reporting period can be a fiscal or calendar year. Please ensure that all annual data inputs (including emissions and electricity consumption) on this sheet are in line with the reporting period selected here (e.g. 01.01.2023 - 31.12.2023).
E10: Reporting year end:
E12: Reporting period - CBAM products supplied to RRPS
E13: Applicable Reporting Year | G13: Please choose the applicable reporting year from the drop down list. This should be in line with the reporting year from the site activity data you have provided above.
E14: Reporting Quarter: | G14: Quarterly information is relevant for the quantity supplied to RRPS. Please select the quarter from the dropdown list.
E16: Contact Details
E17: Supplier Information | F17: Data
E18: Name of the Organization
E19: Street, Number
E20: Economic activity (optional field, referring to NACE)
E21: Country
E22: UN/LOCODE (5 letters)
E23: List of UN/LOCODE = United Nations Code for Trade and Transport Locations
E24: Classification used of economic activities in the EU = Statistical classification of economic activities in the European Community (NACE)
B27: 2) Operator information (operator = any person who operates or controls an installation in a third country)
B28: Please insert the information of the operator for the requested parts below. If you are yourself an installation operator, please indicate. Please extend the list if required. An operator can operate multiple installations.
E30: Supplier Information | F30: Operator 1 | G30: Operator 2 | H30: Operator 3 | I30: Operator 4 | J30: Operator 5 | K30: Operator 6 | L30: Operator 7 | M30: Operator 8
E31: Operator name
E32: Country Code (2 letters)
E33: Zip Code/ postal code
E34: City
E35: Contact person
E36: Name
E37: Email
E38: Phone number
E39: Comment
B43: 3) Production installations of CBAM goods (installation = production site of CBAM goods)
B44: For the transitional period, installation specific information is required. The list below shall help to indicate the specific installations producing the by RRPS imported CBAM goods. Please extend the list if required.
B46: Please select the applicable CN-Code of CBAM product produced on site and delivered to RRPS from Cover. | C46: Please insert the part no. Assigned to the CN-Code. | D46: Please insert the mass of produced CBAM goods delivered to RRPS in the reporting quarter for this data request (see selected quarter below) per installation. | E46: List of UN/LOCODE = United Nations Code for Trade and Transport Locations | F46: Please select from the drop down list the operator indicated under 2. Operator details and installation details may differ, as one operator may operate multiple installations. | G46: Insert a clarifying comment if required. | H46: Please indicate the source of electricity consumed on site during reporting year (see selected reporting year below). If none of the options provided in the drop down apply, please indicate in the column to the right "Other source indication". | I46: If the none of options provided in the drop down of "Source of Electricity" apply, please indicate the other source here.
B47: CN-Code | C47: Part no. | D47: Tonnages [t] | E47: Details of production installation | F47: Data | G47: Comment | H47: Source of Electricity | I47: Other source indication
D48: =IF(F14="","",_xlfn.CONCAT(F14," ",F13)) | H48: =IF(F9&F10="","",_xlfn.CONCAT(F9,"-",F10))
E49: Operator
E50: Name of the installation (English name)
E51: Street, Number
E52: Zip Code/ postal code
E53: Economic activity (optional field, referring to NACE)
...

Sheet b) Advanced data request
B1: ATTENTION: Please copy this sheet if you operate several installations delivering CBAM goods to RRPS or their subsidiaries.
B3: b) Advanced data request: Aggregated goods categories and relevant production processes per installation
B5: 1) General information - reporting period
B6: This sheet requests CBAM good-specific and site-specific data within the system boundaries and CBAM guidelines defined by the EU Commission.
B7: Please insert the reporting year and reporting quarter for which you provide the data in this data collection workbook.
B9: Reporting period - Site acvitiy data
B10: Reporting year start: | D10: By default the reporting period can be a fiscal or calendar year. Please ensure that all annual data inputs (including emissions and electricity consumption) on this sheet are in line with the reporting period selected here (e.g. 01.01.2023 - 31.12.2023).
B11: Reporting year end:
B13: Reporting period - CBAM products supplied to RRPS
B14: Applicable Reporting Year | D14: Please choose the applicable reporting year from the drop down list. This should be in line with the reporting year from the site activity data you have provided above.
B15: Reporting Quarter: | D15: Quarterly information is relevant for the quantity supplied to RRPS. Please select the quarter from the dropdown list.
B18: 2) Installation-specific information
B19: Please insert the installation-specific information in this table.
B21: Installation information | M21: Emissions of the installation
B22: Please insert the installation information. | M22: Information requested here is equivalent to scope 1 (calculated). Please insert the direct emissions of the site associated with the production of all CBAM goods in the selected reporting year (see below). | N22: Please insert the PFC (perfluorocarbon) emissions of the site associated with the production of all CBAM goods in the selected reporting year (see below). | O22: Information requested here is equivalent to scope 1 (measured). Please insert the direct emissions of the site associated with the production of all CBAM goods in the selected reporting year (see below). | R22: Information requested here is equivalent to scope 2. Please insert the indirect emissions of the site associated with the production of all CBAM goods in the selected reporting year (see below).
B23: Operator ID | C23: Name of the installation | D23: Street, Number | E23: Contact person name | F23: Contact person e-mail | G23: Contact person telephone number | H23: Economic Activity (optional field, referring to NACE) | I23: Country | J23: UN/LOCODE (5 letters) | K23: Coordinates of the installation source (latitude) | L23: Coordinates of the installation source (longitude) | M23: CBAM site emissions - Calculation-based (excl. PFC emissions) [tCO2e] | N23: CBAM site emissions - Total PFC emissions [tCO2e] | O23: CBAM site emissions - Measurement - based [tCO2e] | P23: CBAM site emissions - Other [tCO2e] | Q23: Total CBAM direct site emissions during reporting period [tCO2e] | R23: Total indirect CBAM site emissions during reporting period [tCO2e] | S23: Total CBAM site emissions during reporting period [tCO2e] | T23: Type of determination - Direct site emissions CBAM goods | U23: Type of determination - Indirect site emissions CBAM goods
M24: =IF(C10&C11="","",_xlfn.CONCAT(C10,"-",C11))
Q25: =SUM(M25:P25) -> 0 | S25: =Q25+R25 -> 0
H26: Classification for NACE | J26: List of UN/LOCODE
B27: General information on data quality:
B28: Justification for use of default values (if relevant):
B29: Information on quality assurance:
B31: Please fill out the following tables. For assistance additional information can be found in the box in the bottom on the right side.
B33: Aggregated goods categories & precursors (in scope of CBAM)
B34: a) List of aggregated goods categories, relevant precursors and corresponding production routes
B35: Please list here ALL aggregated goods categories, including any relevant precursor types produced WITHIN installation. Where relevant, please list all production routes through which the aggregated goods are produced."Additional information" is provided in the grey box down on the right. Please select the data inputs for the applicable production routes from there.
B36: 3) Product-specific information
B37: Please insert the CBAM product-specific information in this table.
B39: Product information | H39: Production Route (see additional information - data input options in the bottom on the right) | M39: CBAM good specific emissions | W39: Iron & steel specific information | AF39: Aluminium specific information | AI39: Carbon price due in country of origin
B40: Please insert the CBAM product information. | H40: Please insert the information for the production steps/route. You can use the information from the grey table in the bottom on the right. | M40: Please insert the production per good (t) in the selected reporting year (see below). | N40: Additional information on how to calculate the SEE (=AttrEm_dir/net mass of CBAM goods) can be found in the PDF attached to the request e-mail. (Mainly complex CBAM products delivered to RRPS). Please insert the SEE (direct) for the selected reporting year (see below). | O40: Please insert the electricity consumed [MWh/t] for the selected reporting year (see below). | P40: Please indcate how the "electricity consumed" was determined. | Q40: Please indicate the source of electricity consumed on site. If none of the options provided in the drop down apply, please indicate in the column to the right "Other source indication". | R40: If the none of options provided in the drop down of "Source of Electricity" apply, please indicate the other source here. | T40: Please select the applicable information from the drop down menu. A legend can be found on the "Legend" tab. | U40: Additional information on how to calculate the indirect SEE (=AttrEm indirect/net mass of CBAM goods) can be found in the PDF attached to the request e-mail. (Mainly complex CBAM products delivered to RRPS) | V40: SEE (total) [tCO2e/t] = SEEg in the PDF attached to the request e-mail. | W40: only for iron or steel products | X40: only for iron or steel products | Y40: only for iron or steel products | Z40: only for iron or steel products | AA40: only for iron or steel products | AB40: only for iron or steel products | AC40: only for iron or steel products | AD40: only for iron or steel products | AE40: only for iron or steel products | AF40: only for aluminium products | AG40: only for aluminium products | AH40: only for aluminium products | AI40: Carbon price due in a country of origin for the embedded emissions in the imported goods, which is not subject to an export rebate or other form of compensation on exportation. Please also consider a carbon price paid of any precursors from outside the installation. Please insert carbon price paid for the quantity supplied to RRPS in the selected quarter (see below).
A41: Table A | B41: ID | C41: Aggregated goods category | D41: Relevant precursor types within installation | E41: CN Codes | F41: CN Name | G41: Product name (used for communication with reporting declarant, e.g. on invoices) | H41: Route 1 | I41: Route 2 | J41: Route 3 | K41: Route 4 | L41: Route 5 | M41: Net Mass CBAM goods produced on-site [t] | N41: SEE (direct) - specific embedded direct emissions of the production process, including any embedded emission from any precursors consumed in the process [tCO2e/t] | O41: Electricity consumed [MWh/t] | P41: Type of determination | Q41: Source of Electricity | R41: Other source indication | S41: Emission Factor [tCO2e/MWh] | T41: Source for electricity Emission Factor (see tab Legend) | U41: SEE (indirect) - Specific embedded indirect emissions of production process, including any embedded indirect emission from any precursors consumed in the process [tCO2e/t] | V41: SEE (total) [tCO2e/t] | W41: The main reducing agent of the precursor, if known | X41: Steel mill identification number | Y41: % Mn | Z41: % Cr | AA41: % Ni | AB41: % other alloys | AC41: % carbon | AD41: t scrap per t steel | AE41: % other materials | AF41: % pre-consumer scrap | AG41: t scrap per t aluminium | AH41: % non-aluminium elements | AI41: Form of carbon price | AJ41: Currency | AK41: Carbon Price due [currency/t] | AL41: Share of total embedded emissions covered by the carbon price [%] | AM41: Form of rebate | AN41: Share of embedded emissions covered by the rebate [%] | AO41: Amount of rebate [currency/t] | AP41: Effective Carbon Price due | AQ41: Currency
M42: =IF(C10&C11="","",_xlfn.CONCAT(C10,"-",C11)) | N42: =IF(C10&C11="","",_xlfn.CONCAT(C10,"-",C11)) | W42: =IF(C10&C11="","",_xlfn.CONCAT(C10,"-",C11)) | AF42: =IF(C10&C11="","",_xlfn.CONCAT(C10,"-",C11)) | AI42: =IF(C10&C11="","",_xlfn.CONCAT(C10,"-",C11))
B43: G1 | F43: =_xlfn.IFNA(INDEX(Admin!$S$4:$S$712, MATCH('b) Advanced data request'!E43,Admin!$T$4:$T$712)), "") | U43: =O43*S43 -> 0 | V43: =SUM(N43,U43) -> 0 | W43: Natural gas | AP43: =IF(E43="", "", (AK43-AO43)) | AQ43: =IF(AK43="", "currency/t", _xlfn.CONCAT(AJ43,"/", "t")) -> currency/t
B44: G2 | F44: =_xlfn.IFNA(INDEX(Admin!$S$4:$S$712, MATCH('b) Advanced data request'!E44,Admin!$T$4:$T$712)), "") | U44: =O44*S44 -> 0 | V44: =SUM(N44,U44) -> 0 | AP44: =IF(E44="", "", (AK44-AO44)) | AQ44: =IF(AK44="", "currency/t", _xlfn.CONCAT(AJ44,"/", "t")) -> currency/t
B45: G3 | F45: =_xlfn.IFNA(INDEX(Admin!$S$4:$S$712, MATCH('b) Advanced data request'!E45,Admin!$T$4:$T$712)), "") | U45: =O45*S45 -> 0 | V45: =SUM(N45,U45) -> 0 | AP45: =IF(E45="", "", (AK45-AO45)) | AQ45: =IF(AK45="", "currency/t", _xlfn.CONCAT(AJ45,"/", "t")) -> currency/t
B46: G4 | F46: =_xlfn.IFNA(INDEX(Admin!$S$4:$S$712, MATCH('b) Advanced data request'!E46,Admin!$T$4:$T$712)), "") | U46: =O46*S46 -> 0 | V46: =SUM(N46,U46) -> 0 | AP46: =IF(E46="", "", (AK46-AO46)) | AQ46: =IF(AK46="", "currency/t", _xlfn.CONCAT(AJ46,"/", "t")) -> currency/t
B47: G5 | F47: =_xlfn.IFNA(INDEX(Admin!$S$4:$S$712, MATCH('b) Advanced data request'!E47,Admin!$T$4:$T$712)), "") | U47: =O47*S47 -> 0 | V47: =SUM(N47,U47) -> 0 | AP47: =IF(E47="", "", (AK47-AO47)) | AQ47: =IF(AK47="", "currency/t", _xlfn.CONCAT(AJ47,"/", "t")) -> currency/t
B48: G6 | F48: =_xlfn.IFNA(INDEX(Admin!$S$4:$S$712, MATCH('b) Advanced data request'!E48,Admin!$T$4:$T$712)), "") | U48: =O48*S48 -> 0 | V48: =SUM(N48,U48) -> 0 | AP48: =IF(E48="", "", (AK48-AO48)) | AQ48: =IF(AK48="", "currency/t", _xlfn.CONCAT(AJ48,"/", "t")) -> currency/t
B49: G7 | F49: =_xlfn.IFNA(INDEX(Admin!$S$4:$S$712, MATCH('b) Advanced data request'!E49,Admin!$T$4:$T$712)), "") | U49: =O49*S49 -> 0 | V49: =SUM(N49,U49) -> 0 | AP49: =IF(E49="", "", (AK49-AO49)) | AQ49: =IF(AK49="", "currency/t", _xlfn.CONCAT(AJ49,"/", "t")) -> currency/t
B50: G8 | F50: =_xlfn.IFNA(INDEX(Admin!$S$4:$S$712, MATCH('b) Advanced data request'!E50,Admin!$T$4:$T$712)), "") | U50: =O50*S50 -> 0 | V50: =SUM(N50,U50) -> 0 | AP50: =IF(E50="", "", (AK50-AO50)) | AQ50: =IF(AK50="", "currency/t", _xlfn.CONCAT(AJ50,"/", "t")) -> currency/t
...

Sheet Legend
B2: Legends
C5: Source of indirect emissions from electricity - emission factor
C6: Code
C7: D.2.1. - default values | D7: CO2 emission factor based on specific default values
C8: D.2.2.- alternative default values | D8: CO2 emission factor based on alternative default value
C9: D.2.3. - reliable importer data | D9: CO2 emission factor based on reliable data demonstrated by the importer
C10: D.2.4. - actual CO2 emissions | D10: CO2 emission factor based on actual CO2 emissions of the installation
C11: Mix | D11: Where the electricity is not predominantly obtained from one source or the EF determined by more than one of the above sources, the EF is determined as a mix of the methods above.
C14: Country codes
C15: Code | D15: Country Name
C16: AD | D16: Andorra
C17: AE | D17: United Arab Emirates
C18: AF | D18: Afghanistan
C19: AG | D19: Antigua and Barbuda
C20: AI | D20: Anguilla
C21: AL | D21: Albania
C22: AM | D22: Armenia
C23: AN | D23: Netherlands Antilles
C24: AO | D24: Angola
C25: AQ | D25: Antarctica
C26: AR | D26: Argentina
... C281: ZW | D281: Zimbabwe

Sheet Admin
B2: Lists used for the functionality of this tool | H2: CN-codes for aluminium goods | K2: CN-codes for iron & steel goods | S2: CN-codes for iron & steel goods and aluminium goods | AA2: Country codes
H3: Aggregated goods category | I3: CN-code | K3: Aggregated goods category | L3: CN-code | S3: CN name | T3: CN-code | U3: CBAM good | AA3: Code | AB3: Country Name | AE3: Emissions | AF3: Installation's emission at source stream and emission source level
H4: Unwrought aluminium | I4: 7601 | K4: Sintered Ore | L4: 2601 12 00 | O4: Form of Carbon price | Q4: Form of rebate | S4: Agglomerated iron ores and concentrates (excl. roasted iron pyrites) | T4: 26011200 | U4: Sintered Ore | Y4: Aggregated Goods | AA4: AD | AB4: Andorra
D5: Quarter Information | H5: Aluminium products | I5: 7603 | K5: Pig iron | L5: 7201 | O5: Tax or Levy | Q5: Free allocation | S5: Hydrogen | T5: 28041000 | U5: Hydrogen | Y5: Iron or steel products | AA5: AE | AB5: United Arab Emirates | AF5: Source Streams (excluding PFC emissions)
D6: 1. Quarter | I6: 7604 10 10 | K6: FeMn | L6: 7202 1 | O6: Emission Trading System | Q6: Financial compensation | S6: Pig iron and spiegeleisen, in pigs, blocks or other primary forms | T6: 7201 | U6: Pig iron | Y6: Unwrought aluminium | AA6: AF | AB6: Afghanistan | AE6: # | AF6: Method | AG6: Source stream name | AH6: Activity data (AD) | AI6: AD Unit | AJ6: Net calorific value (NCV) | AK6: NCV Unit | AL6: Emission factor (EF) | AM6: EF Unit | AO6: Oxidation factor (OxF) | AP6: OxF Unit | AQ6: Conversion factor (ConvF) | AR6: ConvF Unit | AS6: Biomass content (BioC) | AT6: BioC Unit
D7: 2. Quarter | I7: 7604 10 90 | K7: FeCr | L7: 7202 4 | O7: Combination | Q7: Tax deduction | S7: Non-alloy pig iron in pigs, blocks or other primary forms, containing, by weight, <= 0,5% of phosphorous | T7: 720110 | U7: Pig iron | Y7: Aluminium products | AA7: AG | AB7: Antigua and Barbuda | AE7: Ex.1 | AF7: Combustion | AG7: Heavy fuel oil | AH7: 252000 | AI7: t | AJ7: 45 | AK7: GJ/t | AL7: 73 | AM7: tCO2/TJ | AO7: 100 | AP7: % | AR7: % | AS7: 0 | AT7: %
D8: 3. Quarter | I8: 7604 21 00 | K8: FeNi | L8: 7202 6 | O8: Other | Q8: Combination | S8: Non-alloy pig iron in pigs, blocks or other primary forms, containing by weight <= 0,5% phosphorus, >= 0,4% manganese and <= 1% silicon | T8: 72011011 | U8: Pig iron | Y8: Sintered Ore | AA8: AI | AB8: Anguilla | AE8: Ex.2 | AF8: Process Emissions | AG8: Raw meal for clinker | AH8: 121000 | AI8: t | AL8: 0.08794 | AM8: tCO2/t | AP8: % | AR8: % | AS8: 0 | AT8: %
D9: 4. Quarter | I9: 7604 29 10 | K9: DRI | L9: 7203 | Q9: Other | S9: Non-alloy pig iron in pigs, blocks or other primary forms, containing by weight <= 0,5% phosphorus, >= 0,4% manganese and > 1% silicon | T9: 72011019 | U9: Pig iron | Y9: Pig iron | AA9: AL | AB9: Albania | AE9: Ex.3 | AF9: Mass balance | AG9: Steel | AH9: -1808226 | AI9: t | AL9: 0 | AP9: % | AQ9: 100 | AR9: % | AS9: 0 | AT9: %
I10: 7604 29 90 | K10: Crude steel | L10: 7206 | S10: Non-alloy pig iron in pigs, blocks or other primary forms, containing by weight <= 0,5% phosphorus, and >= 0,1% but < 0,4% manganese | T10: 72011030 | U10: Pig iron | Y10: FeMn | AA10: AM | AB10: Armenia | AE10: 1 | AF10: Combustion | AG10: Natural gas | AH10: 10 | AI10: 1000Nm3 | AJ10: 36 | AK10: GJ/1000Nm3 | AL10: 56 | AM10: tCO2/TJ | AO10: 1 | AP10: % | AR10: % | AS10: 0 | AT10: %
I11: 7605 | L11: 7206 10 00 | S11: Non-alloy pig iron in pigs, blocks or other primary forms, containing by weight <= 0,5% phosphorus, and <= 0,1% manganese | T11: 72011090 | U11: Pig iron | Y11: FeCr | AA11: AN | AB11: Netherlands Antilles | AE11: 2 | AF11: Process emissions | AG11: CO2 | AH11: 5 | AI11: t | AJ11: 0 | AK11: GJ/t | AL11: 1 | AM11: tCO2/t | AP11: % | AQ11: 100 | AR11: % | AS11: 0 | AT11: %
D12: binary list | I12: 7606 | L12: 7206 90 00 | O12: Currency | Q12: Reducing Agent | S12: Non-alloy pig iron in pigs, blocks or other primary forms, containing by weight >= 0,5% phosphorus | T12: 72012000 | U12: Pig iron | Y12: FeNi | AA12: AO | AB12: Angola | AE12: 3 | AF12: Mass Balance | AI12: t | AP12: % | AR12: % | AT12: %
D13: yes | F13: Default value | I13: 7607 | L13: 7207 | O13: AED | Q13: Coal or coke | S13: Alloy pig iron and spiegeleisen, in pigs, blocks or other primary forms | T13: 720150 | U13: Pig iron | Y13: DRI | AA13: AQ | AB13: Antarctica | AE13: 4 | AP13: % | AR13: % | AT13: %
D14: no | F14: Actual data | I14: 7608 | L14: 7207 11 11 | O14: AMD | Q14: Natural gas | S14: Alloy pig iron in pigs, blocks or other primary forms, containing by weight >= 0,3% but <= 1% titanium and >= 0,5% but <= 1% vanadium | T14: 72015010 | U14: Pig iron | Y14: Crude steel | AA14: AR | AB14: Argentina
I15: 7609 00 00 | L15: 7207 11 14 | O15: ANG | Q15: Biogas | S15: Alloy pig iron and spiegeleisen, in pigs, blocks or other primary forms (excl. alloy iron containing, by weight, >= 0,3% but <= 1% titanium and >= 0,5% but <= 1% vanadium) | T15: 72015090 | U15: Pig iron | Y15: No CBAM product included in this CBAM product production process | AA15: AS | AB15: American Samoa | AE15: Installation-level GHG emissions and energy consumption
I16: 7610 | L16: 7207 11 16 | O16: AOA | Q16: Hydrogen | S16: Ferro-manganese, containing by weight > 2% of carbon | T16: 720211 | U16: Alloys (FeMn, FeCr, FeNi) | AA16: AT | AB16: Austria
D17: Input options for "General information on data quality" | E17: Input options for "Justification for use of default values (if relevant)" | F17: Input options for "Information on quality assurance" | I17: 7611 00 00 | L17: 7207 12 10 | O17: ARS | S17: Ferro-manganese, containing by weight > 2% carbon, with a granulometry <= 5 mm and a manganese content by weight > 65% | T17: 72021120 | U17: Alloys (FeMn, FeCr, FeNi) | Y17: Precursors | AA17: AU | AB17: Australia | AE17: Fuel balance
D18: Mostly default values provided by the European Commission | E18: Unreasonable costs for more accurate monitoring | F18: Third-party verification | I18: 7612 | L18: 7207 19 12 | O18: AUD | S18: Ferro-manganese, containing by weight > 2% carbon (excl. ferro-manganese with a granulometry of <= 5 mm and containing by weight > 65% manganese) | T18: 72021180 | U18: Alloys (FeMn, FeCr, FeNi) | Y18: Crude steel | AA18: AW | AB18: Aruba | AE18: Fuel balance: | AG18: Unit | AH18: Total fuel input | AI18: Direct fuel for CBAM goods | AJ18: Fuel for electricity | AK18: Direct fuel for non-CBAM goods | AL18: Rest
D19: Mostly measurements & analyses | E19: Data gaps | F19: Internal audits | I19: 7613 00 00 | L19: 7207 19 80 | O19: AWG | S19: Ferro-manganese, containing by weight <= 2% carbon | T19: 72021900 | U19: Alloys (FeMn, FeCr, FeNi) | Y19: Direct reduced iron | AA19: AX | AB19: ÅLAND ISLANDS | AE19: manual entries | AG19: TJ
D20: Mostly measurements & national standard factors for e.g. the emission factor | E20: Other | F20: Four eyes principle | I20: 7614 | L20: 7207 20 11 | O20: AZN | Q20: Source of indirect emissions from electricity - emission factor | S20: Ferro-chromium, containing by weight > 4% of carbon | T20: 720241 | U20: Alloys (FeMn, FeCr, FeNi) | Y20: Pig iron | AA20: AZ | AB20: Azerbaijan
D21: Mostly measurements & sector-specific standard factors for e.g. the emission factor | F21: None | I21: 7616 | L21: 7207 20 15 | O21: BAM | Q21: D.2.1. | S21: Ferro-chromium, containing by weight > 4% but <= 6% carbon | T21: 72024110 | U21: Alloys (FeMn, FeCr, FeNi) | Y21: Alloys (FeMn, FeCr, FeNi) | AA21: BA | AB21: Bosnia and Herzegovina | AE21: GHG emission balance & information on data quality
D22: Mostly measurements & international standard factors for e.g. the emission factor | I22: 7616 10 00 | L22: 7207 20 17 | O22: BBD | Q22: D.2.2. | S22: Ferro-chromium, containing by weight > 6% carbon | T22: 72024190 | U22: Alloys (FeMn, FeCr, FeNi) | Y22: Sintered Ore | AA22: BB | AB22: Barbados | AE22: a) GHG balance by type of GHG
I23: 7616 91 00 | L23: 7207 20 32 | O23: BDT | Q23: D.2.3. | S23: Ferro-chromium, containing by weight <= 4% of carbon | T23: 720249 | U23: Alloys (FeMn, FeCr, FeNi) | Y23: Hydrogen | AA23: BD | AB23: Bangladesh
I24: 7616 99 10 | L24: 7207 20 52 | O24: BGN | Q24: D.2.4. | S24: Ferro-chromium, containing by weight <= 0,05% carbon | T24: 72024910 | U24: Alloys (FeMn, FeCr, FeNi) | Y24: Unwrought aluminium | AA24: BE | AB24: Belgium | AE24: Installation level data: | AG24: Unit | AH24: Total CO2 emissions | AI24: Biomass emissions | AJ24: Total N2O emissions | AK24: Total PFC emissions | AL24: Total direct emissions | AM24: Total indirect emissions
I25: 7616 99 90 | L25: 7207 20 80 | O25: BHD | Q25: Mix | S25: Ferro-chromium, containing by weight > 0,05% but <= 0,5% carbon | T25: 72024950 | U25: Alloys (FeMn, FeCr, FeNi) | Y25: Aluminium products | AA25: BF | AB25: Burkina Faso | AE25: from sheet "B_EmInst" | AG25: tCO2e | AH25: 25.16 | AI25: 0 | AJ25: 0 | AK25: 29248163 | AL25: 29248188
L26: 7207 11 90 | O26: BIF | S26: Ferro-chromium, containing by weight > 0,5% but <= 4% carbon | T26: 72024990 | U26: Alloys (FeMn, FeCr, FeNi) | Y26: Iron or steel products | AA26: BG | AB26: Bulgaria | AE26: manual entries | AG26: tCO2e
L27: 7207 12 90 | O27: BMD | S27: Ferro-nickel | T27: 72026000 | U27: Alloys (FeMn, FeCr, FeNi) | AA27: BH | AB27: Bahrain
D28: Reporting Years | L28: 7207 19 19 | O28: BND | Q28: Type of determination | S28: Ferrous products obtained by direct reduction of iron ore and other spongy ferrous products, in lumps, pellets or similar forms; iron having a minimum purity by weight of 99,94%, in lumps, pellets or similar forms | T28: 7203 | U28: Direct reduced iron | AA28: BI | AB28: Burundi
D29: 2023 | L29: 7207 20 19 | O29: BOB | Q29: Actual data | S29: Ferrous products obtained by direct reduction of iron ore, in lumps, pellets or similar forms | T29: 72031000 | U29: Direct reduced iron | AA29: BJ | AB29: Benin | AE29: Information on the data quality and quality assurance
D30: 2024 | L30: 7207 20 39 | O30: BOV | Q30: Other methods including default values | S30: Spongy ferrous products, obtained from molten pig iron by atomisation, iron of a purity of >= 99,94%, in lumps, pellets or similar forms | T30: 72039000 | U30: Direct reduced iron | AA30: BL | AB30: Saint Barthélemy
D31: 2025 | L31: 7207 20 59 | O31: BRL | S31: Granules and powders of pig iron, spiegeleisen, iron or steel (excl. granules and powders of ferro-alloys, turnings and filings of iron or steel, radioactive iron powders "isotopes" and certain low-calibre, substandard balls for ballbearings) | T31: 7205 | U31: Iron or steel products | AA31: BM | AB31: Bermuda | AE31: General information on data quality: | AF31: Please select from the hierarchical order (descending order) in the drop-down list the predominant approach for determining the installation's direct emissions.
D32: 2026 | L32: 7218 | O32: BSD | S32: Granules, of pig iron, spiegeleisen, iron or steel (excl. granules of ferro-alloys, turnings and filings of iron or steel, certain small calibre items, defective balls for ball-bearings) | T32: 72051000 | U32: Iron or steel products | AA32: BN | AB32: Brunei Darussalam | AE32: Justification for use of default values (if relevant): | AF32: If the predominant method was to use default values published by the European Commission, please select from the drop-down list the most appropriate justification for not achieving higher data quality.
D33: 2027 | L33: 7218 10 00 | O33: BTN | Q33: Source of electricity | T33: 72052100 | U33: Iron or steel products | AA33: BO | AB33: Bolivia, Plurinational State of | AE33: Information on quality assurance: | AF33: Please select from the hierarchical order (descending order) in the drop-down list the approach for quality assurance of emissions data.
D34: 2028 | L34: 7218 99 19 | O34: BWP | Q34: Direct technical link to electricity generator | S34: Powders, of pig iron, spiegeleisen, iron or non-alloy steel (excl. powders of ferro-alloys and radioactive iron powders "isotopes") | T34: 72052900 | U34: Iron or steel products | AA34: BQ | AB34: Bonaire, Sint Eustatius and Saba
D35: 2029 | L35: 7218 99 80 | O35: BYN | Q35: (Bilateral) power purchase agreement | S35: Iron and non-alloy steel in ingots or other primary forms (excl. remelting scrap ingots, products obtained by continuous casting and iron of heading 7203) | T35: 7206 | U35: Crude steel | AA35: BR | AB35: Brazil | AE35: General information on data quality:
D36: 2030 | L36: 7218 91 | O36: BZD | Q36: Received from the grid | S36: Ingots, of iron and non-alloy steel (excl. remelted scrap ingots, continuous cast products, iron of heading 7203) | T36: 72061000 | U36: Crude steel | AA36: BS | AB36: Bahamas | AE36: Justification for use of default values (if relevant):
L37: 7218 99 11 | O37: CAD | S37: Iron and non-alloy steel, in puddled bars or other primary forms (excl. ingots, remelted scrap ingots, continuous cast products, iron of heading 7203) | T37: 72069000 | U37: Crude steel | AA37: BT | AB37: Bhutan | AE37: Information on quality assurance:
L38: 7218 99 20 | O38: CDF | S38: Semi-finished products of iron or non-alloy steel | T38: 7207 | U38: Crude steel | AA38: BV | AB38: Bouvet Island
L39: 7224 | O39: CHE | S39: Semi-finished products of iron or non-alloy steel containing, by weight, < 0,25% of carbon, of square or rectangular cross-section, the width measuring < twice the thickness | T39: 720711 | U39: Crude steel | AA39: BW | AB39: Botswana
L40: 7224 10 | O40: CHF | S40: Semi-finished products, of non-alloy free-cutting steel, containing by weight < 0,25% carbon, of square or rectangular cross-section, the width < twice the thickness, rolled or obtained by continuous casting | T40: 72071111 | U40: Crude steel | AA40: BY | AB40: Belarus
L41: 7224 90 18 | O41: CHW | S41: Semi-finished products, of iron or non-alloy steel, containing by weight < 0,25% carbon, of square or rectangular cross-section, the width < twice the thickness of <= 130 mm, rolled or obtained by continuous casting (excl. free-cutting steel) | T41: 72071114 | U41: Crude steel | AA41: BZ | AB41: Belize
...

Sheet Styles
B2: Guidehouse Excel house styles
B3: You should save workbooks based on this template in your preferred file format (xls for 2003 and xlsx/xlsm for 2007 and above). NB: saving as .xls will decrease the row and column numbers to 2003 row/column limits
B4: For more advice / instructions on how to use this file, see the | F4: Guidehouse Excel Toolbox on the ES&I Portal | I4: Version: | J4: 45218
B6: Styles for simple workbooks | H6: Styles for advanced workbooks | M6: Guidehouse color scheme | T6: Standard Excel styles for consistency
T7: These are not recommended for use, but kept for historical purposes
B8: GH_Input1 | D8: Cells which have values, not formulae, | H8: GH_VBALink | J8: Also use this for form cell links | M8: Accent1 | N8: Accent2 | O8: Accent3 | P8: Accent4 | Q8: Accent5 | R8: Accent6 | T8: 2 | U8: Comma
D9: and which the user can / should change | M9: 60% - Accent1 | N9: 60% - Accent2 | O9: 60% - Accent3 | P9: 60% - Accent4 | Q9: 60% - Accent5 | R9: 60% - Accent6 | T9: 3 | U9: Comma [0]
B10: GH_InputList | D10: For in-cell drop-downs (using data validation) | H10: GH_Warning | J10: Used for cells which must show a certain result, i.e. QC cells. Use conditional formatting to get: | K10: TRUE | M10: 40% - Accent1 | N10: 40% - Accent2 | O10: 40% - Accent3 | P10: 40% - Accent4 | Q10: 40% - Accent5 | R10: 40% - Accent6 | T10: 4 | U10: Currency
H11: GH_Check | J11: Used for error checking columns (usually to return TRUE or FALSE) or for simple counters and flags | M11: 20% - Accent1 | N11: 20% - Accent2 | O11: 20% - Accent3 | P11: 20% - Accent4 | Q11: 20% - Accent5 | R11: 20% - Accent6 | T11: 5 | U11: Currency [0]
B12: GH_Comment | D12: Comments, description of formulae or content | T12: 0.02 | U12: Percent
B13: GH_Source | D13: Description of the source of your data, text etc. | H13: GH_CalcSum | J13: Used for sum totals primarily (but can be used for any calculation that needs a lot of emphasis)
M14: GH_Accent07 | N14: GH_Accent08 | O14: GH_Accent09 | P14: GH_Accent10 | Q14: GH_Accent11 | R14: GH_Accent12 | T14: Bad | U14: Please use GH_Warning
B15: GH_Calc1 | D15: Apply if you are using formulae in your cells | H15: GH_InputWhite | J15: Mostly used in client-facing workbooks when colours of other input styles would be inappropriate | M15: As no color progression is prescribed this is not implemented for Accent 7–12 | T15: Good
B16: GH_Calc2 | D16: If you are using different formulae in neighbouring cells | H16: GH_InputCalc | J16: Optional input style when wanting to show that an input cells is filled with a formula | T16: Neutral
B17: GH_Calc3 | D17: please apply for each formula a different calculation style | T17: Calculation | U17: Please use one of the calculation styles
B18: GH_Calc4 | D18: to show the user that formulae do not fill down / right | H18: GH_InputFixed | J18: Input cells whose values only change rarely (e.g. sales tariffs in the budget tool changed by Finance only). | T18: Check Cell | U18: Please use GH_Check
B19: GH_Calc5 | J19: You can use VBA to make these input cells available (by Style) to a specific user, e.g. an administrator. | T19: Explanatory Text | U19: Please use GH_Comment
T20: Input | U20: Please use GH_Input
B21: GH_RangeName | D21: Used to hold the name of a close-by named range | H21: Hyperlink | J21: Standard Excel style, reformatted in Guidehouse colors, only relevant if you use hyperlinks | T21: Linked Cell | U21: Please use GH_VBACommunication
D22: (ideally to the top/left of the named range) | H22: Followed Hyperlink | J22: Standard Excel style, reformatted in Guidehouse colors, only relevant if you use hyperlinks | T22: Note | U22: Please use GH_Comment
T23: Output | U23: Please use one of the calculation styles OR GH_VBALink
T24: Warning Text | U24: Please use GH_Warning
B25: Title styles to structure workbooks | H25: Styles to format output tables | M25: Table Styles to apply when using the table functionality from Excel | T25: Heading 1
B26: Title styles for grouping sections of analysis, NOT for headers of tables. Dark and lighter style set available. | H26: Styles for tables, both internal and external use | M26: Predefined table styles, first option applied by default, others available via Ribbon > Table > Design
T27: Heading 2
B28: GH_Dark_H1 | E28: GH_Light_H1 | H28: GH_Table0_Header | J28: Table headers (for simple / internal use; optional)
H29: GH_Table0_Cell | J29: Table cells (for simple / internal use; optional) | T29: Heading 3
B30: GH_Dark_H2 | E30: GH_Light_H2
H31: GH_Table1_Header | J31: Table headers for external use, especially to paste as image into reports | T31: Heading 4
B32: GH_Dark_H3 | E32: GH_Light_H3 | H32: GH_Table1_Cell | J32: Table cells for external use, especially to paste as image into reports
T33: Title
B34: GH_Footer | H34: GH_Table2_Header | J34: Table headers for external use, especially to paste as image into proposals
H35: GH_Table2_Cell | J35: Table cells for external use, especially to paste as image into proposals | M35: NB: Examples pasted as picture to avoid creating 4 tables in the template | T35: Total
H38: Standard text boxes
B46: ="Guidehouse Excel house styles - "&TEXT($J$4,"MMMM YYYY") -> Guidehouse Excel house styles - October 2023
