BEGIN:VCALENDAR
VERSION:2.0
PRODID:-//Michael Angstadt//biweekly 0.5.0//EN
BEGIN:VTIMEZONE
TZID:Asia/Jakarta
LAST-MODIFIED:20260306T231828Z
TZURL:https://www.tzurl.org/zoneinfo/Asia/Jakarta
X-LIC-LOCATION:Asia/Jakarta
X-PROLEPTIC-TZNAME:LMT
BEGIN:STANDARD
TZNAME:BMT
TZOFFSETFROM:+0707
TZOFFSETTO:+0707
DTSTART:18670810T000000
END:STANDARD
BEGIN:STANDARD
TZNAME:+0720
TZOFFSETFROM:+0707
TZOFFSETTO:+0720
DTSTART:19231231T234712
END:STANDARD
BEGIN:STANDARD
TZNAME:+0730
TZOFFSETFROM:+0720
TZOFFSETTO:+0730
DTSTART:19321101T000000
END:STANDARD
BEGIN:STANDARD
TZNAME:+09
TZOFFSETFROM:+0730
TZOFFSETTO:+0900
DTSTART:19420323T000000
END:STANDARD
BEGIN:STANDARD
TZNAME:+0730
TZOFFSETFROM:+0900
TZOFFSETTO:+0730
DTSTART:19450923T000000
END:STANDARD
BEGIN:STANDARD
TZNAME:+08
TZOFFSETFROM:+0730
TZOFFSETTO:+0800
DTSTART:19480501T000000
END:STANDARD
BEGIN:STANDARD
TZNAME:+0730
TZOFFSETFROM:+0800
TZOFFSETTO:+0730
DTSTART:19500501T000000
END:STANDARD
BEGIN:STANDARD
TZNAME:WIB
TZOFFSETFROM:+0730
TZOFFSETTO:+0700
DTSTART:19640101T000000
END:STANDARD
END:VTIMEZONE
BEGIN:VEVENT
UID:367d91a0-a345-4392-adb0-6ecfb811e0d6
DTSTAMP:20260424T123337Z
SUMMARY:Enlit Asia
DESCRIPTION:
LOCATION:Jakarta
DTSTART;TZID=Asia/Jakarta:20260922T113300
DTEND;TZID=Asia/Jakarta:20260924T113300
URL:https://www.enlit-asia.com/
END:VEVENT
END:VCALENDAR
